BEGIN:VCALENDAR
VERSION:2.0
METHOD:PUBLISH
PRODID:Wuppertal-Live ICal v9.0 R38/39
BEGIN:VEVENT
CLASS:PUBLIC
DESCRIPTION:weitere Termininfos und Ticketbuchung unter https://www.bergisc
 h-live.de/ical/632585 
DTEND;TZID=Europe/Berlin:20260502T130000
DTSTAMP:20260421T142011Z
DTSTART;TZID=Europe/Berlin:20260502T110000
LOCATION:Schloss Homburg\, Schloss Homburg 1\, 51588 Nümbrecht
PRIORITY:5
SEQUENCE:0
SUMMARY:Mittelaltermarkt zu Schloss Homburg -- Wochenend-Ticket Fr-So
TRANSP:OPAQUE
UID:632585:www.bergisch-live.de
URL:https://www.bergisch-live.de/ical/632585
END:VEVENT
END:VCALENDAR
