BEGIN:VCALENDAR
VERSION:2.0
METHOD:PUBLISH
PRODID:Wuppertal-Live ICal v9.0 R38/39
BEGIN:VEVENT
CLASS:PUBLIC
DESCRIPTION:weitere Termininfos und Ticketbuchung unter https://www.bergisc
 h-live.de/ical/632581 
DTEND;TZID=Europe/Berlin:20260430T220000
DTSTAMP:20260421T135402Z
DTSTART;TZID=Europe/Berlin:20260430T163000
LOCATION:Schloss Homburg\, Schloss Homburg 1\, 51588 Nümbrecht
PRIORITY:5
SEQUENCE:0
SUMMARY:Tanzwut · Mittelaltermarkt zu Schloss Homburg -- Beltane - Walpurg
 is-Fest mit Tanzwut Live
TRANSP:OPAQUE
UID:632581:www.bergisch-live.de
URL:https://www.bergisch-live.de/ical/632581
END:VEVENT
END:VCALENDAR
