BEGIN:VCALENDAR
VERSION:2.0
METHOD:PUBLISH
PRODID:Wuppertal-Live ICal v9.0 R38/39
BEGIN:VEVENT
CLASS:PUBLIC
DESCRIPTION:weitere Termininfos und Ticketbuchung unter https://www.bergisc
 h-live.de/ical/632043 
DTEND;TZID=Europe/Berlin:20260430T220000
DTSTAMP:20260423T153903Z
DTSTART;TZID=Europe/Berlin:20260430T200000
LOCATION:AJZ Bahndamm / Jugendinitiative Wermelskirchen e.V.\, Am Bahndamm 
 2\, 42929 Wermelskirchen
PRIORITY:5
SEQUENCE:0
SUMMARY:Tanz in den Mai
TRANSP:OPAQUE
UID:632043:www.bergisch-live.de
URL:https://www.bergisch-live.de/ical/632043
END:VEVENT
END:VCALENDAR
