BEGIN:VCALENDAR
VERSION:2.0
METHOD:PUBLISH
PRODID:Wuppertal-Live ICal v9.0 R38/39
BEGIN:VEVENT
CLASS:PUBLIC
DESCRIPTION:weitere Termininfos und Ticketbuchung unter https://www.bergisc
 h-live.de/ical/629455 
DTEND;TZID=Europe/Berlin:20260515T220000
DTSTAMP:20260423T191507Z
DTSTART;TZID=Europe/Berlin:20260515T200000
LOCATION:Festzelt - Parkplatz Martinrea\, Bahnstr. \, 51702 Bergneustadt
PRIORITY:5
SEQUENCE:0
SUMMARY:Dr. Motte · Rave the Planet -- 725 Jahre Bergneustadt - Raveabend
TRANSP:OPAQUE
UID:629455:www.bergisch-live.de
URL:https://www.bergisch-live.de/ical/629455
END:VEVENT
END:VCALENDAR
